BEGIN:VCALENDAR
VERSION:2.0
PRODID:-//masahat - مساحات - ECPv6.15.20//NONSGML v1.0//EN
CALSCALE:GREGORIAN
METHOD:PUBLISH
X-WR-CALNAME:masahat - مساحات
X-ORIGINAL-URL:https://masahat.no
X-WR-CALDESC:Events for masahat - مساحات
REFRESH-INTERVAL;VALUE=DURATION:PT1H
X-Robots-Tag:noindex
X-PUBLISHED-TTL:PT1H
BEGIN:VTIMEZONE
TZID:Europe/Oslo
BEGIN:DAYLIGHT
TZOFFSETFROM:+0100
TZOFFSETTO:+0200
TZNAME:CEST
DTSTART:20240331T010000
END:DAYLIGHT
BEGIN:STANDARD
TZOFFSETFROM:+0200
TZOFFSETTO:+0100
TZNAME:CET
DTSTART:20241027T010000
END:STANDARD
BEGIN:DAYLIGHT
TZOFFSETFROM:+0100
TZOFFSETTO:+0200
TZNAME:CEST
DTSTART:20250330T010000
END:DAYLIGHT
BEGIN:STANDARD
TZOFFSETFROM:+0200
TZOFFSETTO:+0100
TZNAME:CET
DTSTART:20251026T010000
END:STANDARD
BEGIN:DAYLIGHT
TZOFFSETFROM:+0100
TZOFFSETTO:+0200
TZNAME:CEST
DTSTART:20260329T010000
END:DAYLIGHT
BEGIN:STANDARD
TZOFFSETFROM:+0200
TZOFFSETTO:+0100
TZNAME:CET
DTSTART:20261025T010000
END:STANDARD
END:VTIMEZONE
BEGIN:VEVENT
DTSTART;TZID=Europe/Oslo:20250920T170000
DTEND;TZID=Europe/Oslo:20250920T183000
DTSTAMP:20260423T005901
CREATED:20250719T123927Z
LAST-MODIFIED:20250916T085551Z
UID:23836-1758387600-1758393000@masahat.no
SUMMARY:Om Kamp\, Om Kjærlighet
DESCRIPTION:We are proud to welcome Sumayo Jirde Cali (formerly Sumaya Jirde Ali) as the keynote speaker for Masahat Festival 2025. \nWith her keynote Om kamp\, om kjærlighet (On Struggle\, On Love)\, Sumayo invites us into a powerful reflection on hospitality — as personal experience\, political responsibility\, and collective practice. \nThrough the lens of her many lived identities — as a poet\, playwright\, literary critic\, anthropologist\, Somali\, Black\, Muslim woman — she asks: \n\nWhat does it mean to treat hospitality as a radical act?Can it become a foundation for more just\, inclusive\, and sustainable communities? \n\n\nSumayo Jirde Cali has made her mark on Norwegian literature with work that confronts racism\, power\, and silence. She writes to make visible what is often erased — and to create space for those pushed to the margins. \nCritic Oda Faremo Lindholm (VG) describes her voice as “painful and beautiful about what is brutally ugly.” \nIn Morgenbladet\, Tonje Vold hears echoes of Angela Davis and bell hooks — Black feminist thinkers who urged women to love and save themselves first. \nJoin us for an evening of poetry\, conversation\, and collective reflection. This keynote will speak to anyone questioning belonging\, identity\, and the possibilities of community. \nDate: Saturday\, 20 September 2025Time: 17:00–18:30Location: Dattera til Hagen\, OsloAdmission: Free and open to all \nSumayo Jirde Cali (b. 1997) is a Norwegian-Somali poet\, writer\, and cultural critic. She debuted with Kvinner som hater menn in 2017\, followed by Melanin hvitere enn blekemiddel\, Ikkje ver redd sånne som meg\, and Når jeg ser havet\, slokner lyset. \nShe is the recipient of several awards including:– The Oslo Prize for “Voice of the Year”– The Zola Prize– The Amalie Skram Prize– The Freedom of Expression Prize from the Norwegian Authors’ Union– Årets Bodøværing (Citizen of the Year in Bodø) \n📸 Photo: Lina Hindrum
URL:https://masahat.no/event/om-kamp-om-kjaerlighet-on-struggle-on-love/
LOCATION:Dattera til Hagen\, Grønland 10\, Oslo\, Oslo\, 0188\, Norway
CATEGORIES:Samtale
ATTACH;FMTTYPE=image/jpeg:https://masahat.no/wp-content/uploads/2025/07/285d3bee-3a1e-49d9-a180-c620f702c856-scaled.jpg
END:VEVENT
BEGIN:VEVENT
DTSTART;TZID=Europe/Oslo:20250921T153000
DTEND;TZID=Europe/Oslo:20250921T173000
DTSTAMP:20260423T005901
CREATED:20250810T162720Z
LAST-MODIFIED:20250916T204104Z
UID:24070-1758468600-1758475800@masahat.no
SUMMARY:Masahat Screens & Sudanese Evening
DESCRIPTION:📍 Location: VEGA Scene\, Oslo📅 Date: Sunday\, September 21\, 2025🕔 Time: 15:30–17:30 (films + discussion) → followed by Sudanese Evening (food + music)🎟️ Tickets: includes access to Masahat Screens + Sudanese evening \n\nWe close this year’s Masahat Festival at VEGA Scene\, in collaboration with Oslo Documentary Cinema\, with an inspiring program that moves from film and dialogue to an evening of food\, music\, and celebration of Sudanese culture. \n\nPart One: Masahat Screens\nProgram\n\n– In Fields of Words (2022\, 70 mins) | Lebanon | dir. Rania Stephan\n– The Other Side of Beauty (2024\, 11 mins) | Morocco\, Sudan | dir. Sami Saif Sirelkhatim\n– Gaza Artists (2024\, 16 mins) – | Palestine | dir. Mustafa al-Nabih\n\nFollowing the screenings\, there will be a discussion with Syrian author Samar Yazbek. \nAbout the films\nIn Fields of Words (2022\, 70 mins) | Lebanon | dir. Rania Stephan \nA filmic dialogue between Syrian writer-in-exile Samar Yazbek and Lebanese filmmaker Rania Stephan\, asking what role cinema and literature can play in the face of war\, death\, and violence. Shot between 2013 and 2019\, the film documents the course of the Syrian revolution and civil war while exploring the question: “Can literature and cinema capture this tragedy?” Combining image\, sound\, and Yazbek’s words\, Stephan creates a poetic and political testimony of our time. Winner of the Best Film Award at the 2022 Villa Medici Film Festival. \n \nThe Other Side of Beauty (2024\, 11 mins) | Morocco\, Sudan | dir. Sami Saif SirelkhatimThe story of a Sudanese photographer who finds beauty in his homeland’s stars and landscapes\, while also facing the violence of war and genocide in Darfur. His images reveal truth to the world\, but at great personal cost—through imprisonment\, torture\, and repression. \nGaza Artists (2024\, 16 mins) – | Palestine | dir. Mustafa al-Nabih \nA short documentary produced by Arji foundation\, written and directed by Mustafa Al-Nabih. It offers a window into the lives of Palestinian artists in the Gaza Strip\, amid ongoing displacement and the difficult conditions they endure. The film takes us on a journey with three artists from different generations\, all of whom were displaced from Gaza and now live in the city of Rafah in the south of the Strip. We follow their daily lives\, struggles\, and the impact of continuous displacement on their creativity and personal lives\, through genuine human moments\, aside from the usual images of destruction. It seeks to reveal the human side of those who continue to live\, dream\, and create despite all that has been lost. This film is a cry to the world: Gaza is being annihilated\, but we love life\, and we resist with love and art. Every moment here bears the imprint of war; every smile is a victory. \n\nPart Two: Sudanese Evening: Food\, Music & Stories\nAfter films and discussion\, the festival continues with a Sudanese Evening at VEGA.\n✨ Tasting menu of iconic Sudanese dishes by chef Mohammed Mustafa.✨ Solo concert by young Sudanese-Norwegian talent Yasir Moa\, a songwriter and storyteller blending classical tunes with rhythmic\, danceable sounds. \nThis evening is curated in collaboration with Khalid Albaih and Naoures Rouissi.
URL:https://masahat.no/event/masahat-screens-3/
LOCATION:Vega Scene\, Hausmanns gate 30\, Oslo\, 0182\, Norway
CATEGORIES:Film,Mat,Samtale
ATTACH;FMTTYPE=image/jpeg:https://masahat.no/wp-content/uploads/2025/09/20025-Programslipp-presentasjon-kopi-2.jpg
END:VEVENT
BEGIN:VEVENT
DTSTART;TZID=Europe/Oslo:20251019T153000
DTEND;TZID=Europe/Oslo:20251019T170000
DTSTAMP:20260423T005901
CREATED:20251006T071608Z
LAST-MODIFIED:20251017T100407Z
UID:24346-1760887800-1760893200@masahat.no
SUMMARY:Folkemordet i Gaza og Big Tech
DESCRIPTION:Fritt Ord\, Masahat og Oslo Dokumentarkino inviterer til foredrag og samtale med Nadim Nashif om Big Techs medvirkning til folkemordet i Gaza. \nSøndag 19. oktober 2025 kl. 15.30 på Cinemateket\, Oslo \nI foredraget vil Nadim Nashif ta opp sensur av palestinske stemmer\, spredning av skadelige narrativer på sosiale medier\, militarisering av kunstig intelligens\, nedstenging av innsamlingsaksjoner for Gaza og en systematisk utestengning av palestinere fra finansielle tjenester\, blant annet PayPal. \nPanelet vil diskutere kampen om det digitale narrativet og framheve den helt avgjørende rollen palestinske medier og journalister spiller\, på tross av målrettede drap og undertrykkelse. Med Nadim Nashif\, Maja Van Der Velden (professor\, Teknologi og bærekraftige fremtider\, UiO) og Kyrre Lien (utenriksjournalist og tidligere Midtøsten-korrespondent i VG). Journalist Ingerid Salvesen er moderator. \n 
URL:https://masahat.no/event/folkemordet-i-gaza-og-big-tech/
LOCATION:Cinemateket\, Dronningens gate 16\, Oslo\, Oslo\, 0105\, Norway
CATEGORIES:Samtale
ATTACH;FMTTYPE=image/jpeg:https://masahat.no/wp-content/uploads/2025/10/gaza-big-tech-nadim-nashif.jpg
ORGANIZER;CN="Fritt Ord":MAILTO:http://www.frittord.no/
END:VEVENT
END:VCALENDAR