BEGIN:VCALENDAR
VERSION:2.0
PRODID:-//masahat - مساحات - ECPv6.15.20//NONSGML v1.0//EN
CALSCALE:GREGORIAN
METHOD:PUBLISH
X-ORIGINAL-URL:https://masahat.no
X-WR-CALDESC:Events for masahat - مساحات
REFRESH-INTERVAL;VALUE=DURATION:PT1H
X-Robots-Tag:noindex
X-PUBLISHED-TTL:PT1H
BEGIN:VTIMEZONE
TZID:Europe/Oslo
BEGIN:DAYLIGHT
TZOFFSETFROM:+0100
TZOFFSETTO:+0200
TZNAME:CEST
DTSTART:20200329T010000
END:DAYLIGHT
BEGIN:STANDARD
TZOFFSETFROM:+0200
TZOFFSETTO:+0100
TZNAME:CET
DTSTART:20201025T010000
END:STANDARD
BEGIN:DAYLIGHT
TZOFFSETFROM:+0100
TZOFFSETTO:+0200
TZNAME:CEST
DTSTART:20210328T010000
END:DAYLIGHT
BEGIN:STANDARD
TZOFFSETFROM:+0200
TZOFFSETTO:+0100
TZNAME:CET
DTSTART:20211031T010000
END:STANDARD
BEGIN:DAYLIGHT
TZOFFSETFROM:+0100
TZOFFSETTO:+0200
TZNAME:CEST
DTSTART:20220327T010000
END:DAYLIGHT
BEGIN:STANDARD
TZOFFSETFROM:+0200
TZOFFSETTO:+0100
TZNAME:CET
DTSTART:20221030T010000
END:STANDARD
END:VTIMEZONE
BEGIN:VEVENT
DTSTART;TZID=Europe/Oslo:20211019T190000
DTEND;TZID=Europe/Oslo:20211019T203000
DTSTAMP:20260422T231221
CREATED:20211007T054535Z
LAST-MODIFIED:20250312T203236Z
UID:16782-1634670000-1634675400@masahat.no
SUMMARY:Arna's children
DESCRIPTION:Arna was an Israeli anti-occupation activist\, married to a Palestinian\, and the founder of the Jenin Refugee camp Freedom Theatre. The Arna’s Children film documents the return of Arna’s son to the refugee camp. He discovers that some of the playful children he knew\, once gasping for cultural expression in a suffocated environment\, were either killed by the Israeli army or joined the Palestinian armed resistance movement. \nOne of Arna’s Children that we follow in the film is Zakaria Zubaidi\, who has recently made international headlines\, together with other five Palestinian political detainees\, upon their escape from the Israeli Gilboa prison. \nThe movie offers a bleak but poignant view into the life of Zubaidi and the future of Palestinian generations deprived of freedom. \nMasahat\, in collaboration with Palestinakomiteen and Kunstnernes Hus invite you to the film screening followed by a panel discussion on the role of culture and theatre in Palestine and conditions of Palestinian detention. \nPanelists\n\nLine Khateeb\, Leader of Palestinakomiteen & Masahat Chair of the Board\nOther guests TBC
URL:https://masahat.no/event/arnas-children/
LOCATION:Kunstnernes Hus\, Wergelandsveien 17\, Oslo\, 0167\, Norway
CATEGORIES:Film,Samtale
ATTACH;FMTTYPE=image/png:https://masahat.no/wp-content/uploads/2021/10/Arnes-Children3-e1633585574606.png
ORGANIZER;CN="masahat":MAILTO:info@masahat.no
END:VEVENT
END:VCALENDAR