BEGIN:VCALENDAR
VERSION:2.0
PRODID:-//masahat - مساحات - ECPv6.15.20//NONSGML v1.0//EN
CALSCALE:GREGORIAN
METHOD:PUBLISH
X-WR-CALNAME:masahat - مساحات
X-ORIGINAL-URL:https://masahat.no
X-WR-CALDESC:Events for masahat - مساحات
REFRESH-INTERVAL;VALUE=DURATION:PT1H
X-Robots-Tag:noindex
X-PUBLISHED-TTL:PT1H
BEGIN:VTIMEZONE
TZID:Europe/Oslo
BEGIN:DAYLIGHT
TZOFFSETFROM:+0100
TZOFFSETTO:+0200
TZNAME:CEST
DTSTART:20240331T010000
END:DAYLIGHT
BEGIN:STANDARD
TZOFFSETFROM:+0200
TZOFFSETTO:+0100
TZNAME:CET
DTSTART:20241027T010000
END:STANDARD
BEGIN:DAYLIGHT
TZOFFSETFROM:+0100
TZOFFSETTO:+0200
TZNAME:CEST
DTSTART:20250330T010000
END:DAYLIGHT
BEGIN:STANDARD
TZOFFSETFROM:+0200
TZOFFSETTO:+0100
TZNAME:CET
DTSTART:20251026T010000
END:STANDARD
BEGIN:DAYLIGHT
TZOFFSETFROM:+0100
TZOFFSETTO:+0200
TZNAME:CEST
DTSTART:20260329T010000
END:DAYLIGHT
BEGIN:STANDARD
TZOFFSETFROM:+0200
TZOFFSETTO:+0100
TZNAME:CET
DTSTART:20261025T010000
END:STANDARD
BEGIN:DAYLIGHT
TZOFFSETFROM:+0100
TZOFFSETTO:+0200
TZNAME:CEST
DTSTART:20270328T010000
END:DAYLIGHT
BEGIN:STANDARD
TZOFFSETFROM:+0200
TZOFFSETTO:+0100
TZNAME:CET
DTSTART:20271031T010000
END:STANDARD
END:VTIMEZONE
BEGIN:VEVENT
DTSTART;TZID=Europe/Oslo:20250920T190000
DTEND;TZID=Europe/Oslo:20250920T203000
DTSTAMP:20260424T192822
CREATED:20250720T092352Z
LAST-MODIFIED:20251009T101117Z
UID:24031-1758394800-1758400200@masahat.no
SUMMARY:The Frida Marida Show  x  Dragon Blood by Only Slime
DESCRIPTION:Practical Information\n📍 Venue: Det Norske Teatret📅 Date: September 20\, 2025 \n🕔 Program: \n\n\n16:30 → Dragon Blood by Only Slime \n\n\n19:00 → The Frida Marida Show (duration: 1.5 hours) \n\n\n🌍 Language: English🎟️ One ticket gives you access to both performances. \nThis performance is for Adults only \n\n\nA Night of Fantasy\, Music & Radical Hospitality\n  \nMasahat\, in collaboration with Ultima\, Det Norske Teatret\, Karmaklubb and Only Slime\, proudly presents The Frida Marida Show. \nWith support from Masahat and as part of the RAWABET project\, Frida transforms a car steering wheel into a drum\, tracing her personal journey — from a young man in Lebanon dreaming of music\, to a woman\, singer\, and songwriter in Oslo. Life’s unexpected turns echo in rhythm and sound. \nThe evening opens with Dragon Blood by Only Slime\, unfolding inside an immersive dinner-style installation: chandeliers\, tables instead of rows\, and performers moving among the audience. Everyone becomes part of the artwork. Guests are encouraged to wear imaginative\, fantasy-inspired costumes. \nAt 19:00\, Frida takes the stage with five musicians\, two dancers\, and a set of out-of-the-box concepts. She embraces Masahat’s 2025 theme of hospitality by singing in eight languages — inviting audiences into a shared cultural space across borders. \nThe night culminates with the launch of Frida Marida’s groundbreaking music video Fri Da Nipple — where six electronic boob-triggers become live instruments. Sound\, body\, and technology merge in a drag performance that redefines both music and art. \n \nThis event is presented in collaboration with Rawabet — a collective initiative led by Ettijahat – Independent Culture and implemented in partnership with GEZMATAZ\, VOCE\, coculture\, Masahat\, and Transversal Project.  \nRawabet is supported by the European Education and Culture Executive Agency (EACEA) under the Creative Europe programme. The views and opinions expressed are however those of the author(s) only and do not necessarily reflect those of the European Union. Neither the European Union nor the granting authority can be held responsible for them.
URL:https://masahat.no/event/the-frida-marida-show-x-dragon-blood-by-only-slime/
LOCATION:Det Norske Teatret\, Kristian IV’s gt.8\, Oslo\, 0164\, Norway
CATEGORIES:Film,Musikk,Scenekunst
ATTACH;FMTTYPE=image/jpeg:https://masahat.no/wp-content/uploads/2025/09/20025-Programslipp-presentasjon-kopi.jpg
END:VEVENT
BEGIN:VEVENT
DTSTART;TZID=Europe/Oslo:20250920T213000
DTEND;TZID=Europe/Oslo:20250920T223000
DTSTAMP:20260424T192822
CREATED:20250723T095054Z
LAST-MODIFIED:20250916T085821Z
UID:23878-1758403800-1758407400@masahat.no
SUMMARY:Palestinsk natt – Hiba Salameh
DESCRIPTION:Hiba Salameh is a music producer\, filmmaker\, and DJ from Haifa\, known for her electrifying sets and fearless approach to sound. She has toured the world\, from Ramallah to Berlin\, weaving together the rich heritage of Arabic music with rhythms and textures from the southern hemisphere. Her work has earned her international recognition\, including being named by Mixmag as “one of the Palestinian DJs you need to know.” \nFor Hiba\, music\, film\, art\, and activism are inseparable. She uses creativity as a tool to tell stories of Palestinian culture\, identity\, and history—challenging borders and genres alike to create unique\, sensual experiences where traditions rooted in the past meet their contemporary reflections. \nHer journey began with the piano and organ in childhood\, a passion she carried into adulthood. At 18\, after an accident left her hospitalised for a year and without full use of her left arm\, she turned to electronic music as her new means of expression. This shift opened up a world of possibilities. Traveling widely\, she collected music from across the Arab world as well as Mexico\, Spain\, Brazil\, and Berlin\, shaping a sound that transcends geography. \n“I think we’re a depressed generation—not just here\, but all over the world\,” Hiba says. “So I want to bring joy when I play music\, especially to oppressed\, unheard people.” \nRefusing to be pigeon-holed\, Hiba has taken her time to define her own sound: a vibrant mix of genres that have marked her life. She is often expected to play only Arabic music\, a limitation she resists. For her\, each performance is not only about music—it’s about the context. “I get a lot of offers to play\, but it’s important I understand their agenda\, their political view\, and the people who will be there before I say yes\,” she explains. \nAs much as Hiba’s music is for everyone\, her activism is rooted in visibility. “My activism is for Palestinians to see me as a female artist on stage and feel empowered.” \nOn 20 September\, she will close Palestinian Night at Riksscenen—delivering a boundless\, pulsating set after DAM. \n  \n \n 
URL:https://masahat.no/event/palestinsk-natt-dam-hiba-salameh-live-pa-riksscenen/
LOCATION:Riksscenen\, Trondheimsveien 2T\, Oslo\, Norway
CATEGORIES:Musikk
ATTACH;FMTTYPE=image/png:https://masahat.no/wp-content/uploads/2025/08/DAM-HIBA_oneline-FB-EVENT-COVER-1920-x-1080-px-1-scaled.png
END:VEVENT
BEGIN:VEVENT
DTSTART;TZID=Europe/Oslo:20250920T213000
DTEND;TZID=Europe/Oslo:20250920T233000
DTSTAMP:20260424T192822
CREATED:20250721T080753Z
LAST-MODIFIED:20250916T085801Z
UID:23867-1758403800-1758411000@masahat.no
SUMMARY:Palestinsk natt – DAM
DESCRIPTION:Masahat and Riksscenen invite you to Palestinian Night – an evening of engagement\, resistance\, and cultural solidarity. \n  \nHeadlining the night: DAM – the first Palestinian hip hop collective\, and among the very first to rap in Arabic. Formed in the late 1990s by Tamer Nafar\, Suhell Nafar\, and Mahmood Jrere\, DAM began shaping a language of resistance through hip hop. In 2015\, Maysa Daw officially joined the group\, and together they released their first single\, Who You Are. \n  \nRooted in Lyd\, their music gave voice to Palestinian experiences at a time when few others were doing so. Their breakthrough came with Min Irhabi? (Who’s the terrorist?)\, downloaded over one million times in 2001\, making them a cultural and musical reference point for a generation navigating violence\, displacement\, and questions of identity. \n  \n“The most entertaining\, original and socially-engaged music to come out of the Middle East.”\n – Martin Vennard\, BBC World Service \n  \nTheir latest album\, Ben Haana Wa Maana\, marks a new phase – more introspective\, direct\, and personal. A body of work that moves between protest and reflection\, between grief and a radical insistence on self-worth. “You can dance to the drums of revolution\,” they say.\n But sometimes\, you can also pause. Listen. And carry the weight of what remains unsaid. \n  \nClosing the night is Hiba Salameh – a music producer\, filmmaker\, and DJ from Haifa\, named by Mixmag as “one of the Palestinian DJs you need to know.” Touring globally with her eclectic\, genre-defying sets\, she fuses the rich heritage of Arabic music with electronic sounds and rhythms from around the world – creating immersive\, sensual experiences that connect past and present. \n 
URL:https://masahat.no/event/palestinian-night-dam-hiba-salameh-live-at-riksscenen/
LOCATION:Riksscenen\, Trondheimsveien 2T\, Oslo\, Norway
CATEGORIES:Musikk
ATTACH;FMTTYPE=image/png:https://masahat.no/wp-content/uploads/2025/08/DAM-HIBA_oneline-FB-EVENT-COVER-1920-x-1080-px-scaled.png
END:VEVENT
BEGIN:VEVENT
DTSTART;TZID=Europe/Oslo:20250921T173000
DTEND;TZID=Europe/Oslo:20250921T183000
DTSTAMP:20260424T192822
CREATED:20250811T164548Z
LAST-MODIFIED:20250916T090058Z
UID:24078-1758475800-1758479400@masahat.no
SUMMARY:Sudansk aften: Mat\, musikk og historier
DESCRIPTION:Sudanese Evening: Food\, Music & Stories\n📍 Location: VEGA Scene\, Oslo Documentary Cinema📅 Date: Sunday\, September 21\, 2025🕔 Time: 17:30–18:30\n🎟️ Tickets: includes access to Masahat Screens + Sudanese evening \n\nAfter a day of films and discussions\, we invite you to close Masahat Festival with a Sudanese Evening at VEGA. The program begins with a tasting menu of iconic Sudanese dishes curated by chef Mohammed Mustafa\, followed by a solo concert with young Sudanese-Norwegian talent Yasir Moa. This special evening is curated in collaboration with Khalid Albaih and Naoures Rouissi. \nJoin us at VEGA to end the festival with the tastes and sounds of Sudan—an evening of community\, culture\, and celebration.
URL:https://masahat.no/event/sudansk-aften/
LOCATION:Vega Scene\, Hausmanns gate 30\, Oslo\, 0182\, Norway
CATEGORIES:Mat,Musikk
ATTACH;FMTTYPE=image/jpeg:https://masahat.no/wp-content/uploads/2025/09/20025-Programslipp-presentasjon-kopi-1.jpg
END:VEVENT
BEGIN:VEVENT
DTSTART;TZID=Europe/Oslo:20260321T143000
DTEND;TZID=Europe/Oslo:20260321T173000
DTSTAMP:20260424T192822
CREATED:20260221T102048Z
LAST-MODIFIED:20260319T144128Z
UID:24558-1774103400-1774114200@masahat.no
SUMMARY:Mini Masahat presenterer: Trommekurs + Id feiring (arabisk fest)
DESCRIPTION:Mini Masahat har gleden av å invitere til Trommekurs + arabisk fest i anledning id feiring lørdag 21. mars kl. 14:30-17:30 på Det Norske Teatret! \nTrommekurs\nVelkommen til et rytmisk eventyr med Safaa Al-Saadi! Gjennom lek med ord\, takt og toner lærer barna å spille enkle rytmer på den arabiske trommen darbuka. Safaa\, en allsidig musiker\, tar med seg arabiske trommer som barna får låne. Han vil også spille litt på arabisk fløyte og riq. Her er det plass til både latter\, dans og læring! \n\n14:30-15:00\, 50 kr (kjøp billett)\n15:00-15:30\, 50 kr (kjøp billett)\n15:30-16:00\, 50 kr (kjøp billett)\n\n  \nId feiring (arabisk fest)\nEtter trommekurset avslutter vi kvelden med en hyggelig arabisk fest fylt med musikk\, dans\, kreativitet og deilige matsmaker fra Jamals Falafel! Arrangementet passer for alle barn og familier – både for dem som har arabisk som morsmål og for dem som er nysgjerrige på språket og kulturen. Gjennom kreative aktiviteter\, rytmisk musikk og felles matopplevelser skaper vi et lite møtested der barn og voksne kan utforske\, lære og ha det gøy sammen. \n\n16:00 –17:00: Dabke-dansekurs med sang og musikk\n17:00 – 17:30: Mat og kaker\nGratis inngang og åpent for alle.\n\nDette arrangementet er i samarbeid med MelaFantasi på arabisk og Det Norske Teatret som en del av “Palestinaprogrammet”\, som foregår i forbindelse med oppsetningen av «Gjenferdet inn». \n  \nTakk til Sparebankstiftelsen DNB for støtten til dette arrangementet.
URL:https://masahat.no/event/trommekurs-id-feiring-arabisk-fest/
LOCATION:Det Norske Teatret\, Kristian IV’s gt.8\, Oslo\, 0164\, Norway
CATEGORIES:Musikk,Scenekunst,Workshop,عربي
ATTACH;FMTTYPE=image/png:https://masahat.no/wp-content/uploads/2026/03/Id-feiring-Website-2026-events-thumbnails.png
END:VEVENT
END:VCALENDAR