BEGIN:VCALENDAR
VERSION:2.0
PRODID:-//masahat - مساحات - ECPv6.15.20//NONSGML v1.0//EN
CALSCALE:GREGORIAN
METHOD:PUBLISH
X-WR-CALNAME:masahat - مساحات
X-ORIGINAL-URL:https://masahat.no
X-WR-CALDESC:Events for masahat - مساحات
REFRESH-INTERVAL;VALUE=DURATION:PT1H
X-Robots-Tag:noindex
X-PUBLISHED-TTL:PT1H
BEGIN:VTIMEZONE
TZID:Europe/Oslo
BEGIN:DAYLIGHT
TZOFFSETFROM:+0100
TZOFFSETTO:+0200
TZNAME:CEST
DTSTART:20230326T010000
END:DAYLIGHT
BEGIN:STANDARD
TZOFFSETFROM:+0200
TZOFFSETTO:+0100
TZNAME:CET
DTSTART:20231029T010000
END:STANDARD
BEGIN:DAYLIGHT
TZOFFSETFROM:+0100
TZOFFSETTO:+0200
TZNAME:CEST
DTSTART:20240331T010000
END:DAYLIGHT
BEGIN:STANDARD
TZOFFSETFROM:+0200
TZOFFSETTO:+0100
TZNAME:CET
DTSTART:20241027T010000
END:STANDARD
BEGIN:DAYLIGHT
TZOFFSETFROM:+0100
TZOFFSETTO:+0200
TZNAME:CEST
DTSTART:20250330T010000
END:DAYLIGHT
BEGIN:STANDARD
TZOFFSETFROM:+0200
TZOFFSETTO:+0100
TZNAME:CET
DTSTART:20251026T010000
END:STANDARD
END:VTIMEZONE
BEGIN:VEVENT
DTSTART;TZID=Europe/Oslo:20240908T110000
DTEND;TZID=Europe/Oslo:20240908T163000
DTSTAMP:20260422T020846
CREATED:20240801T114106Z
LAST-MODIFIED:20250809T133853Z
UID:21008-1725793200-1725813000@masahat.no
SUMMARY:Mini Masahat
DESCRIPTION:نرحب بكم في مساحات للصغار يوم الأحد ٨ أيلول في توين تورغ! انضموا إلينا في ميني مساحات – يوم للصغار واليافعين والعائلات يحتفل بالثقافة واللغة العربية من خلال الموسيقى وورش العمل الفنية والرقص والمرح وفقرة الحكواتي والأفلام والطعام وغيرها الكثير من النشاطات! الدخول مجاني ومتاح للجميع! Velkommen til Mini Masahat på Tøyen Torg 8. september 2024!  Bli med på Mini Masahat – en dag for alle barn\, unge og familier der vi feirer arabisk kultur med dans\, moro\, musikk\, lek\, kunstverksteder\, fortellingstund\, film\, mat og mye mer! Gratis inngang\, og åpent for alle! Takk til Sparebankstiftelsen DNB som gjør dette mulig. \nProgram البرنامج\nTøyen Deichman Hovedscenen \n11:00-16:30 Art & craft – تلوين وأعمال يدوية\n11:45-12:30 Dabkeh verksted – ورشة دبكة\n13:00-15:30 Tatreez & te – تطريز & شاي\n15:30-16:00 Sultannens Son – عرض ابن السلطان \nTøyen Torg \n13:45-16:30 Mosaic verksted – ورشة موزاييك\n14:00-14:30 Flying Seagulls sirkus – سيرك النوارس الطائرة \nTøyen Deichman Amfi \n12:30-13:00 Det er morsomt å lære arabisk! + fortellerstund – قراءة قصة «البطيخة» مع رانيا وفقرة نتعلم عربي ونمرح \nTøyen Biblo \n13:00-14:30 Tårnet film Q&A med Mads Grorud (10-15 år) – فيلم البرج \n \n\n\n\n\nTatreez workshop\n\n\n\nMosaic workshop with Alice Davies\n\n\n\nFlying Seagulls\n\n\n\nArtbuild with Farah\n\n\n\nFilm\n\n\n\nSultanens Sønn\n \nOm Mini Masahat\nI år lanserer vi den første utgaven av Mini Masahat (8. september) som en oppvarming for Masahatfestivalen (18. – 22. september) med fokus på å være en arena for barn\, unge og familier som ønsker å oppleve arabisk kunst og kultur.Siden temaet for Masahatfestivalen (18. – 22. sept) er “Protest”\, har Mini Masahat som mål å fremme ungdomsaktivisme gjennom kunst. Dagen er bygget rundt en kunstparade som ledes av den syriske scenekunstneren Farah Azrak den 21. september. Kunstverkstedet som skjer 8. september vil sette fokus på å lage masker og materialer til kunstparaden.
URL:https://masahat.no/event/mini-masahat/
LOCATION:Tøyen Torg\, Hagegata 28\, Oslo\, 0653\, Norway
CATEGORIES:Musikk,Visuell kunst,Workshop
ATTACH;FMTTYPE=image/jpeg:https://masahat.no/wp-content/uploads/2024/08/mini-masahat.jpg
ORGANIZER;CN="masahat":MAILTO:info@masahat.no
END:VEVENT
BEGIN:VEVENT
DTSTART;TZID=Europe/Oslo:20240918T190000
DTEND;TZID=Europe/Oslo:20240918T210000
DTSTAMP:20260422T020846
CREATED:20240717T204621Z
LAST-MODIFIED:20250707T215033Z
UID:20983-1726686000-1726693200@masahat.no
SUMMARY:Masahat 2024 åpningskonsert: Nai Barghouti
DESCRIPTION:The renowned Palestinian artist Nai Barghouti will open Masahat festival 2024. Join us for an evening of grief\, hope and joy at Grønland Kirke on the 18th of September. \nNai will perform a curated concert dedicated to Gaza. \nWednesday\, 18 September at Grønland Kirke \n\n18:00 doors open\n19:00 concert starts\n\nUnheard: An Evening of Grief and Hope \nNai states: “For those whose voices are unheard\, whose faces are unseen\, who are reduced to numbers\, and whose very existence is erased from “the narrative”. They are not numbers. They have faces\, names and voices. They had dreams that have now come to an end. They are loved and cherished by many who will forever miss them. For all of those\, particularly for the children of Gaza\, we dedicate this evening of grief\, hope\, and even joy. We grieve the beautiful souls of those we’ve lost\, and we hope for justice\, for freedom\, for dignity\, for real peace for those who are still surviving\, still seeking safety\, and still dreaming despite the overwhelming\, unspeakable horror. My voice is but an echo of yours.” \nNai Barghouti is an award-winning Palestinian singer\, composer and flutist. From her first concerts in Ramallah and Cairo at the age of 14 through her packed concerts at the London Jazz Festival\, Edinburgh International Festival\, the United Nations in New York and in renowned theaters in Paris\, Washington\, Istanbul\, Amsterdam\, London\, Casablanca\, Rabat\, Kuwait and Beirut\, the Jerusalem-born artist has been praised as a “classical diva”and an“exceptional virtuosa.” \nNai will perform with: \n\nTony Roe (Piano)\nKhalil Khoury (Qanun)\nRuven Ruppik (Percussions)\nDiego Alvaraz (Bass Guitar)
URL:https://masahat.no/event/masahat-2024-nai-barghouti/
LOCATION:Grønland kirke\, Grønlandsleiret 34\, Oslo\, 0190\, Norway
CATEGORIES:Musikk
ATTACH;FMTTYPE=image/jpeg:https://masahat.no/wp-content/uploads/2024/06/FB-event-banner-2024_final.jpg
ORGANIZER;CN="masahat":MAILTO:info@masahat.no
END:VEVENT
BEGIN:VEVENT
DTSTART;TZID=Europe/Oslo:20240918T213000
DTEND;TZID=Europe/Oslo:20240918T230000
DTSTAMP:20260422T020846
CREATED:20240717T235128Z
LAST-MODIFIED:20250704T203442Z
UID:22409-1726695000-1726700400@masahat.no
SUMMARY:Åpningsfest med DJ Daeva
DESCRIPTION:Etter åpningskonserten på Jakob kirke\, skal vi sparke i gang årets festival med åpningsfest på Nordic Black Theatre. \nMed den legendariske DJ Daeva inviterer vi publikum til et eventyr av lyd og bevegelse på tvers av alle syv kontinenter. \nNasim\, også kjent som Daeva\, er en Oslo-basert DJ og kunstner født og oppvokst i Teheran. Siden 2004 har Daeva vært en fremtredende figur på Oslos klubb- og festivalscene\, med opptredener på steder som Cosmopolite\, Nobel Peace Center\, Blå\, Oslo Pride\, Nasjonalmuseet\, Riksscenen\, Munchmuseet. I tillegg har Daeva spilt på internasjonale klubbscener i land som som Sverige\, Belgia og Frankrike. \nVi gleder oss\, og det er gratis inngang!
URL:https://masahat.no/event/apningsfest-med-dj-daeva/
LOCATION:Nordic Black Theater\, Hollendergata 8\, Oslo\, 0190\, Norway
CATEGORIES:Musikk
ATTACH;FMTTYPE=image/jpeg:https://masahat.no/wp-content/uploads/2024/09/dj-deava.jpg
ORGANIZER;CN="masahat":MAILTO:info@masahat.no
END:VEVENT
BEGIN:VEVENT
DTSTART;TZID=Europe/Oslo:20240920T203000
DTEND;TZID=Europe/Oslo:20240920T220000
DTSTAMP:20260422T020846
CREATED:20240814T173335Z
LAST-MODIFIED:20250706T193557Z
UID:21266-1726864200-1726869600@masahat.no
SUMMARY:Masahat Community Dinner: Bread\, Dignity\, and Social Justice
DESCRIPTION:Bli med på Masahat community dinner der vi feirer fellesskapet med fire-retters middag\, poesi\, musikk og historiefortelling på Himmelsalen på BLÅ. \nMatsikkerhet er ofte en av hovedårsakene til at folk tar til gatene i protest over hele verden. Historisk sett har mat ofte blitt brukt av kolonimakter som et verktøy for undertrykkelse ved å tvinge samfunn i kne gjennom sult og kalorikontroll. På den andre siden har aktivister over hele verden brukt mat til å reparere samfunnsbånd gjennom å organisere gatekjøkken og matdistribusjon til massene i revolusjonære perioder. I denne samfunnsbyggende handlingen\, som setter fokus på matens rolle i masse­mobilisering\, vil deltakerne få smake og lære om historien til visse retter og de kreative måtene mat har blitt brukt som en form for protest på. \nVåre talentfulle og politisk motiverte kokker (Chef: Thuraya al-Kury\, Sous Chef: Andreas Leibe Delsett) vil tilberede en fire-retters middagsmeny som feirer fellesskapets matlagings- og spisemåter ved å gjenskape retter som har blitt ikoniske og viktige for samfunn i opprør. \nMiddagen vil også inneholde et kulturprogram med musikk\, poesi og fortellinger: \n\nDet blir diktopplesning og boksignering av Tunga mi protesterer mot døden: Palestinsk dikt av Bendik Vada.\nVi får også musikkopptreden med U- 3 som skal spille sørafrikanske sjangerbrytende rytmer med dyp forpliktelse til samfunnsreparasjon.\nMC og historieforteller Mona Abdel-Fadil\n\nDet blir servert 4 retter av kokk Thuraya al-Kury og sous-kokk Andreas Leibe Delsett
URL:https://masahat.no/event/bread-dignity-and-social-justice/
LOCATION:BLÅ\, Brenneriveien 9c\, Oslo\, 0182\, Norway
CATEGORIES:Litteratur,Mat,Musikk
ATTACH;FMTTYPE=image/jpeg:https://masahat.no/wp-content/uploads/2024/08/dinner.jpg
ORGANIZER;CN="masahat":MAILTO:info@masahat.no
END:VEVENT
BEGIN:VEVENT
DTSTART;TZID=Europe/Oslo:20240920T223000
DTEND;TZID=Europe/Oslo:20240920T235900
DTSTAMP:20260422T020846
CREATED:20240814T184451Z
LAST-MODIFIED:20250706T111808Z
UID:21296-1726871400-1726876740@masahat.no
SUMMARY:Klubbkveld med Safira + DJ Refel & VATHAN / BLÅ
DESCRIPTION:Masahatfestivalen 2024 inviterer til klubbkveld på BLÅ! 20. september har vi tre dyktige DJ-er som skal sørge for god stemning og liv på dansegulvet med musikk fra forskjellige hjørner i verden. \nHeadliner for kvelden er Safira\, som har vært en drivkraft på den norske DJ-scenen og har gjort seg bemerket ved å samle folk gjennom musikk. Hennes musikalske stil varierer fra dype\, mørke og atmosfæriske toner til leken og psykedelisk techno. Safiras visjon om samhold fortsetter med utviklingen av hennes egne kulturelle bevegelse og eventkonseptet Extra Delicious. Dette konseptet har de siste fem årene vært med på å skape en plattform hvor artister i Norge kan opptre\, nettverke og utvikle talentene sine sammen. DJ Safira har dratt på flere turneer på forskjellige kontinenter\, og tar alltid med seg driv og inspirasjon når hun kommer tilbake. \n  \nUnder kvelden får vi også høre fra de talentfulle DJ-ene Refel og VATHAN. \nDJ Refel er en lokal Oslo-DJ med røtter fra Irak. DJ Refel har siden 2019 spilt på de største klubbene i Oslo\, der hun har hatt en rykende lidenskap for å spille eksperimentelle lyder og musikkstiler fra sør for ekvator\, eller fra diasporaen som kommer fra det territoriet. \nVATHAN er født og oppvokst i Oslo\, og tar inspirasjon fra sine tamilske røtter sammen med en lidenskap for elektronisk musikk. Resultatet av det blir en unik blanding av sørasiatiske elementer\, house og techno. Settene hans går fra lekne og lette begynnelser til mørke og svette finaler\, som holder publikum energiske og rytmen groovy. Bli med på en uforglemmelig kveld\, og kjøp billettene dine NÅ!
URL:https://masahat.no/event/klubbkveld-med-safira-dj-refel-vathan-bla/
LOCATION:BLÅ\, Brenneriveien 9c\, Oslo\, 0182\, Norway
CATEGORIES:Musikk
ATTACH;FMTTYPE=image/jpeg:https://masahat.no/wp-content/uploads/2024/08/safira.jpg
ORGANIZER;CN="masahat":MAILTO:info@masahat.no
END:VEVENT
BEGIN:VEVENT
DTSTART;TZID=Europe/Oslo:20240921T190000
DTEND;TZID=Europe/Oslo:20240921T210000
DTSTAMP:20260422T020846
CREATED:20240815T165144Z
LAST-MODIFIED:20250706T205111Z
UID:20926-1726945200-1726952400@masahat.no
SUMMARY:Poems of Consumption / Hamed Sinno med live strykekvartett 
DESCRIPTION:Det er med stor glede at Masahatfestivalen 2024 og Ultima presenterer den ikoniske libanesisk-amerikanske Hamed Sinno med deres solodebut Poems of Consumption på Riksscenen den 21. september. \nHamed Sinno er tidligere vokalist i det legendariske indie-rock bandet\, Mashrou’ Leila.  \nDet kritikerroste «Poems of Consumption» er en litterær sangsyklus og en multimediaforestilling som utforsker temaer som overforbruk\, psykisk sykdom\, kjærlighetssorg og klimaendringer. Stykket ble fremført på Londons Barbican Centre i juli 2023. Delvis inspirert av Mark Fishers “Capitalist Realism”\, bruker Sinno poesi skrevet som produktanmeldelser på nettbutikken Amazon for å uttrykke følelser rundt den øyeblikkelige tilfredsstillelsen som følger med netthandel og overforbruk.  \nHamed vil opptre sammen med en norsk strykekvartett: \n\nMagnus Boye Hansen (fiolinist)\nJon Mehus (fiolinist)\nBendik Bjørnstad Foss (bratsjist)\nInga Byrkjeland (cellist)\n\n  \n \n \n \n \n \n \n \n \n \nHamed Sinno er komponist\, forfatter og kunstner. Deres research bruker fremføring for å utforske stemmen og digital vokalitet som sted for politisk forhandling. Sinno skriver og foreleser om populærkultur som engasjert praksis. De var tekstforfatter og vokalist for Mashrou’ Leila fra 2008-2022. Deres debut i fulllengde opera\, Westerly Breath\, var under utvikling ved The Industry Los Angeles\, og åpnet på New York Met Museum januar 2024. Deres solodebut\, Poems of Consumption\, åpnet på Londons Barbican Centre i juli 2023. \n \n \n \n \n \nMagnus Boye Hansen (fiolinist)\nDen norske fiolinisten og bratsjisten Magnus Boye Hansen har sin bakgrunn fra Barratt Due musikkinstitutt i Oslo\, Universität der Kunste i Berlin og Musikkhøgskolen i Oslo der han har studert med Morten Carlsen\, Geir Inge Lotsberg\, Axel Gerhardt og Lars Anders Tomter. Han bor i Oslo og er 2016 fiolinist i Kringkastingsorkesteret og Det Norske Kammerorkester\, og fra 2018 medlem av Oslo strykekvartett. I sistnevnte ensemble spiller han på en Matteo Gofriller bratsj fra 1710\, vennlig lånt fra Dextra Musica-stiftelsen. Han er også medlem i LightsOut ensemble\, et ensemble som utelukkende spiller konserter i absolutt mørke for utøvere og publikum og medgrunnlegger av Boyes Musikkkompani\, et produksjonsselskap for og med klassisk musikk med prosjekter som spenner fra flere konserter og kammeropera-produksjoner til podcasting. Hans nyeste album er 3 fiolinsonater av Christian Sinding sammen med Mathias Halvorsen. \nJon Mehus (fiolinist)\nJon Mehus er en frilansfiolinist med base i Oslo. Han har bred erfaring fra ulike orkestre og ensembler\, både nasjonalt og internasjonalt. Jon har solid bakgrunn innen klassisk musikk\, med utdannelse fra Barratt-Due Musikkinstitutt. \nBendik Bjørnstad Foss (bratsjist)\nhar i vel 20 år hatt en utstrakt frilansvirksomhet i ulike ensembler\, orkestre og festivaler i inn-og utland. Han har samarbeidet med flere ledende komponister og utøvere i Norge og utlandet\, både som solist\, kammermusiker og som medlem av ensembler som Cikada og Oslo Sinfonietta. Som pedagog har han bl.a. vært tilknyttet stiftelsen Dextra Musica\, Apprendiz(Brasil) og Transpositions (Vietnam). Han er en etterspurt kammermusikkpartner\, og medvirker på et stort antall plateinnspillinger over et bredt spekter av genrer. \nInga Byrkjeland (cellist)\nInga Byrkjeland (f. 1982) er en norsk cellist fra Førde\, bosatt i Oslo.Hun har studert ved Norges Musikkhøgskole hos bl.a. Truls Mørk og Aage Kvalbein. Hun er frilanser og har spilt i de fleste norske orkestre\, i noen av dem også som gruppeleder. For tiden spiller hun mest i Oslofilharmonien. Hun har som orkestermusiker fått spille på mange scener og festivaler i inn- og utland\, som Royal Albert Hall\, Philharmonie Berlin\, Musikverein\, Philharmonie de Paris og Elbphilharmonie for å nevne noen.Inga er en aktiv kammermusiker\, og er med i flere ensembler: ensemble neoN\, ensemble Temporum og nå også en ny cellotrio – Djup trio. Hun spiller jevnlig i Cikada ensemble og i Oslo Sinfonietta. Hun har gjennom sitt virke i ny musikk-feltet samarbeidet med mange komponister og også bestilt og fått skrevet stykker til seg og/eller sine ensembler.Hun har bred erfaring fra flere musikksjangre\, også barokk og pop/jazz.Sammen med Ensemble neoN har Inga to ganger vunnet Spellemannsprisen\, i 2013 (Åpen klasse) og i 2016 (Samtid). Hun vant også NMH’s kammermusikk-konkurranse i 2008. Inga spiller på en Justin Derazey\, bygget i Paris i 1862.
URL:https://masahat.no/event/poems-of-consumption-hamed-sinno-med-live-strykekvartett/
LOCATION:Riksscenen\, Trondheimsveien 2T\, Oslo\, Norway
CATEGORIES:Musikk,Scenekunst
ATTACH;FMTTYPE=image/jpeg:https://masahat.no/wp-content/uploads/2024/08/FB-event-banner-2024_HSinnoHSHS.jpg
ORGANIZER;CN="masahat":MAILTO:info@masahat.no
END:VEVENT
BEGIN:VEVENT
DTSTART;TZID=Europe/Oslo:20240921T213000
DTEND;TZID=Europe/Oslo:20240921T223000
DTSTAMP:20260422T020846
CREATED:20240815T215943Z
LAST-MODIFIED:20240826T152820Z
UID:21078-1726954200-1726957800@masahat.no
SUMMARY:Djadba Ensemble
DESCRIPTION:Masahatfestivalen og Riksscenen presenterer Djadba Ensemble\, frontet av Khalid Laaouam.\n\nDjadba ensemble koker opp sin egne energiske fusion av Gnawa- og Isawamusikk\, shaabi\, ørkenblues og tilhørende uttrykk. Det Oslobaserte bandet er et nytt tilskudd til pulsen av suggerende beats fra den afrikanske og arabiske diaspora som trekker stadig flere lyttere til festivalscener og klubber – av åpenbare årsaker!\n\nBandet frontes av Khalid Laaouam på vokal og gembri. Født i Marokko startet han sin musikalske karriere med sufi-folkemusikk før han etablerte seg i Spania og Norge. Laaouam trakterer også saksofon\, ghaitafløyte og diverse perkusjonsinstrumenter\, og har blitt en ettertraktet musiker med prosjekter som Zawya og Baba Jalil.\n\nOthman Hmimar (vokal\, perkusjon) er kjent fra et av Marokkos største band Hoba Hoba Spirit som har stått på scener som Roskilde og Webster Hall i New York med sin egen trespråklige miks av indierock\, gnawa\, punk og sufimusikk. Den allsidige Raciel Torres (trommer) fra Cuba er en prisbelønt trommeslager og komponist som har spilt med jazzmusikere i verdensklasse\, gitarist Jørgen Kasbo kjenner vi i senere tid fra Fieh\, og Erlend A. Tredal(gitar/bass) spiller med bl.a. med Ruben og Sebastian Zalo og er låtskriver/produsent for prosjektene ¡BangBang Watergun! og Soundfocker.
URL:https://masahat.no/event/djadba-ensemble/
LOCATION:Riksscenen\, Trondheimsveien 2T\, Oslo\, Norway
CATEGORIES:Musikk
ATTACH;FMTTYPE=image/jpeg:https://masahat.no/wp-content/uploads/2024/08/Djadba-FB-event-1920-x-1005-px.jpg
END:VEVENT
BEGIN:VEVENT
DTSTART;TZID=Europe/Oslo:20240921T230000
DTEND;TZID=Europe/Oslo:20240922T010000
DTSTAMP:20260422T020846
CREATED:20240816T002929Z
LAST-MODIFIED:20240902T200406Z
UID:22225-1726959600-1726966800@masahat.no
SUMMARY:Ultima x Masahat: Club night
DESCRIPTION:Ultima\, Blå and Masahat invite you to a club night with DJ Plead and Deena Abdelwahed. \nDJ Plead\, a Melbourne/Naarm producer based in Berlin\, takes the stage next\, drawing on his Lebanese background\, to create percussive club music that blends the rhythms\, scales and timbres of Lebanese pop and traditional music with other contemporary dance styles. Plead’s contribution responds to Deathprod and sets the stage for the final act. \nWith her upbeat approach\, Tunisian DJ/producer Deena Abdelwahed reclaims the diverse elements of Arabic music\, drawing inspiration from electronic dance music influenced by club and avant-garde experimental scenes. Her dynamic performance\, concluding in a b2b with long-time friend and collaborator Plead\, urges the audience to the dancefloor. Her set is guaranteed to leave your ears tingling with curiosity about parallel musical worlds and the possibilities of connecting them.
URL:https://masahat.no/event/ultima-x-masahat-club-night/
LOCATION:BLÅ\, Brenneriveien 9c\, Oslo\, 0182\, Norway
CATEGORIES:Musikk
ATTACH;FMTTYPE=image/jpeg:https://masahat.no/wp-content/uploads/2024/08/masahat-ultima.jpg
ORGANIZER;CN="masahat":MAILTO:info@masahat.no
END:VEVENT
END:VCALENDAR