BEGIN:VCALENDAR
VERSION:2.0
PRODID:-//masahat - مساحات - ECPv6.15.20//NONSGML v1.0//EN
CALSCALE:GREGORIAN
METHOD:PUBLISH
X-WR-CALNAME:masahat - مساحات
X-ORIGINAL-URL:https://masahat.no
X-WR-CALDESC:Events for masahat - مساحات
REFRESH-INTERVAL;VALUE=DURATION:PT1H
X-Robots-Tag:noindex
X-PUBLISHED-TTL:PT1H
BEGIN:VTIMEZONE
TZID:Europe/Oslo
BEGIN:DAYLIGHT
TZOFFSETFROM:+0100
TZOFFSETTO:+0200
TZNAME:CEST
DTSTART:20220327T010000
END:DAYLIGHT
BEGIN:STANDARD
TZOFFSETFROM:+0200
TZOFFSETTO:+0100
TZNAME:CET
DTSTART:20221030T010000
END:STANDARD
BEGIN:DAYLIGHT
TZOFFSETFROM:+0100
TZOFFSETTO:+0200
TZNAME:CEST
DTSTART:20230326T010000
END:DAYLIGHT
BEGIN:STANDARD
TZOFFSETFROM:+0200
TZOFFSETTO:+0100
TZNAME:CET
DTSTART:20231029T010000
END:STANDARD
BEGIN:DAYLIGHT
TZOFFSETFROM:+0100
TZOFFSETTO:+0200
TZNAME:CEST
DTSTART:20240331T010000
END:DAYLIGHT
BEGIN:STANDARD
TZOFFSETFROM:+0200
TZOFFSETTO:+0100
TZNAME:CET
DTSTART:20241027T010000
END:STANDARD
END:VTIMEZONE
BEGIN:VEVENT
DTSTART;TZID=Europe/Oslo:20230921T200000
DTEND;TZID=Europe/Oslo:20230921T220000
DTSTAMP:20260424T134531
CREATED:20230726T120353Z
LAST-MODIFIED:20250706T202932Z
UID:19225-1695326400-1695333600@masahat.no
SUMMARY:Masahat 2023 åpningskonsert: TARABBAND
DESCRIPTION:-20:00 doors open \n-20:30 concert \nTARABBAND is coming to Oslo for the first time to open Masahat festival 2023! \nThe band’s name comes from the Arabic word Tarab\, meaning “ecstasy through music”– and we promise you a no less thrilling concert than what the name reveals! \nJoin us on Thursday\, 21 September at Melahuset and get ready to immerse yourself in a cross-cultural musical experience\, sung in universal Arabic lyrics and performed with a fusion of folk and Middle Eastern melodies that make you want to leap out of your chair and dance. \nTarabband is a six-member group founded in 2008 by Iraqi-Egyptian Nadin Al khalidi and Swedish Gabriel Hermansson in Malmö\, Sweden. With Nadin Al Khalidi’s charismatic and sensitive voice\, Tarabband music takes off from Malmö\, travels via Paris and the Mediterranean to Cairo and Baghdad creating the band’s original compositions and sound. \nThe group’s front figure and vocalist Nadin Al khalidi fled from Iraq in 2001 arriving to Sweden as a refugee. Her lyrics merge political and social topics along with questions around identity\, survival and love. \nA unique live band with influences from North Africa\, the Middle East and Europe – parts of the world where they have reaped enormous success\, this year Tarabband is celebrating their 15th year anniversary with their fifth album “Yekhaf” – Arabic for “afraid of me”. “Yekhaf” is based on human encounters and situations that the singer and lyricist Nadin Al Khalidi has been involved with in recent years. The texts in Arabic weave together stories about people and life’s destinies that are going on in parallel in different corners of the world – in Malmö\, in the Jordanian Wadi Rum mountains\, in Iraqi Mosul\, in Cairo and in Baghdad\, where Nadin was born and grew up. \nWhen the musicians in Tarabband meet\, they together create vibrant and touching soundscapes that invite you to dance\, feel and think of the stories behind the lyrics and the melodies. \nThis concert is in collaboration with Melahuset \n.
URL:https://masahat.no/event/masahat-2023-apningskonsert-tarabband/
LOCATION:Melahuset\, Mariboes gate 8\, Oslo\, 0183\, Norway
CATEGORIES:Musikk
ATTACH;FMTTYPE=image/jpeg:https://masahat.no/wp-content/uploads/2023/07/TARABBAND-Website.jpg
ORGANIZER;CN="masahat":MAILTO:info@masahat.no
END:VEVENT
BEGIN:VEVENT
DTSTART;TZID=Europe/Oslo:20230921T230000
DTEND;TZID=Europe/Oslo:20230922T010000
DTSTAMP:20260424T134531
CREATED:20230807T213902Z
LAST-MODIFIED:20230918T110024Z
UID:19873-1695337200-1695344400@masahat.no
SUMMARY:Afterparty
DESCRIPTION:After our opening concert with TARABBAND\, we will head to Oslo’s coolest new venue Baba Bar for a drink and chat with old and new friends. Join us as Dj Nasha will keep our company on the decks with her Arab Y2K hits crossing over amapiano beats.
URL:https://masahat.no/event/afterparty/
LOCATION:Baba bar\, Storgata 13\, Oslo\, 0155\, Norway
CATEGORIES:Musikk
ATTACH;FMTTYPE=image/png:https://masahat.no/wp-content/uploads/2023/09/after-party-at-Baba-Bar.png
ORGANIZER;CN="masahat":MAILTO:info@masahat.no
END:VEVENT
BEGIN:VEVENT
DTSTART;TZID=Europe/Oslo:20230922T230000
DTEND;TZID=Europe/Oslo:20230923T030000
DTSTAMP:20260424T134531
CREATED:20230817T095041Z
LAST-MODIFIED:20250704T203234Z
UID:19569-1695423600-1695438000@masahat.no
SUMMARY:Toumba (DJ set) / Blå
DESCRIPTION:Buy tickets | لشراء البطاقات \nBorn and raised in Jordan\, DJ and producer Yazan Zyadat\, aka Toumba\, is now based in London\, where he fashions lithe club bangers that melt Middle Eastern elements with dubstep basslines and clattering breaks. Last year he experienced a flurry of interest when Ben UFO’s Hessle Audio label released his “Petals” EP and Zyadat was able to broadcast his unique sounds on a larger platform. Tonally ambitious and deviously percussive\, his music takes the essence of Arabic tarab and shelat forms (often seen as wedding music) and dilutes it in a dance floor-ready roil of booming bass and dissociated synths. \nSupporting acts: DJ Daeva opening + 𒀭unnaki closing \n— \nDaeva /opening/ \nNasim aka Daeva is an Oslo-based artist and DJ born and raised in Tehran. Since 2004\, Daeva has featured heavily on Oslo’s club and festival scene\, via Cosmopolite\, Blå\, Khartoum\, Dattera\, the National Museum\, Riksscenen\, the Munch Museum\, Mela Festival\, Oslo Pride and much more. She plays rhythms from all corners of the world with extra emphasis on the Middle East\, the African continent and South America. \n— \n𒀭unnak /closing/ \n𒀭unnaki (read: Anunnaki) explores the origins of mystics through his music. He’ll take you on a stroll at your ancestral graveyard. There you’ll hear heavy kicks\, tappy drums and light symphonies meshed in together with a taste of a tribal belonging. 𒀭unnaki stands behind several underground concepts and has performed at Ingensteds\, Evrysome\, Melahuset\, Baba Bar and intimate festivals
URL:https://masahat.no/event/toumba-dj-set-bla/
LOCATION:BLÅ\, Brenneriveien 9c\, Oslo\, 0182\, Norway
CATEGORIES:Musikk
ATTACH;FMTTYPE=image/jpeg:https://masahat.no/wp-content/uploads/2023/08/Toumba_Banner.jpg
ORGANIZER;CN="masahat":MAILTO:info@masahat.no
END:VEVENT
BEGIN:VEVENT
DTSTART;TZID=Europe/Oslo:20230923T180000
DTEND;TZID=Europe/Oslo:20230923T220000
DTSTAMP:20260424T134531
CREATED:20230818T104950Z
LAST-MODIFIED:20250704T202614Z
UID:19626-1695492000-1695506400@masahat.no
SUMMARY:Al Rosanna Dinner
DESCRIPTION:Al Rosanna Dinner: A Levantine culinary odyssey\n\nBuy tickets لشراء البطاقات\n \nWhat does Ibsen’s “Terje Vigen” poem have to do with Al Rosanna and the great famine of Lebanon (1915-1918)? How does food history contribute to our grand national narratives? Can recipes\, food stories\, and memories offer an alternative view to our national imagination? Can we think of the recipes we use and the food we eat as a way to consider how our pasts and futures are connected beyond borders and nation states? \nThese questions and the stories around them are the backdrop of our dinner. \nJoin us at Al Rosanna Dinner for a unique culinary journey that transcends time and space. Step into a world of exquisite flavors as we sail in memory from Røst in north Norway all the way to Beirut to experience the rich heritage of the Levant. \nAl Rosanna Dinner will serve you history\, flavors\, aromas and melodies from Norway\, Lebanon\, Syria\, Palestine and Iraq. Palestinian chef Thurayya Alkury and Norwegian author and cook Andreas Delsett present their own interpretation of the myths of Al Rosanna and Terje Vigen. \n  \nYour ticket includes: \n\nSix-course dinner\nFood weaved with storytelling and music\nMeeting and mingling with Masahat festival guests*\nEntrance to solo concert by Haya Zaatry + club night (DJ Set) by Leila Moon ++ at Blå following the dinner\nPrint-out of a medieval recipe\, retrieved from one of the earliest cook books in history\n\n  \nMenu\n\nBaghdad: Cheese Boreg – savory pastry with side of bitter orange jam\nBeirut: Yalanji – wrapped grape leaves with fresh herbs\nRøst: Fish and grain snack\nAleppo: Fattet Makdous – layered eggplant with crisp bread\, minced lamb meat\, yogourt and pomegranate sauce\nSafad: Walnut Kullaj – sweet pastry served with dried apricot pure\nBack in the times: surprise medieval dish\nBring your own drink!\n\n  \nThe name of the dinner is inspired by Al Rosana\, a popular Levantine folk song which has been recorded over and over by some of the greatest Arab artists of the 20th century\, each giving it a unique flavor. The origins of the story of the song are conflicting and intertwined. \nWe were mostly inspired by Nur Turkmani’s article about Al Rosana “A famine\, a ship and a folk song that spanned borders“ where she writes how oral narratives allow us to reclaim and rewrite histories once silenced by colonialism\, patriarchy and other authoritarian powers. \nSome say Al Rosana (or Rozana) is a large ship that carried food from Italy to Lebanon during Lebanon’s great famine 1916-1918. Others say it carried smuggled wheat from Aleppo merchants to Beirut. Another version of the story revolves around a tragic love story that started in Safad\, Palestine or Mosul in Iraq and ended up in a song in Aleppo. \nSimilar to how Turkmani’s versions of Al Rosana offer new perspectives to view our interconnected pasts and futures\, so do some new critical readings of Norwegian myths\, such as the one of The Norwegian anthropologist Runar Døving who takes a new critical historical reading of the the grand tale of “Terje Vigen”. In this dinner\, we also go back further in time to think about the story of the Italian sailing captain\, Pietro Querini\, who was shipwrecked in Røst in North Norway\, and how\, as he sailed back to Venice\, he took back with him the inspiration to introduce Stockfish into Italian cooking. \nTurkmani goes on to cite Rabih Alameddine in his novel “The Hakawati\,”—or “the storyteller” as he writes: “What happens is of little significance compared with the stories we tell ourselves about what happens. Events matter little\, only stories of events affect us.” \nAl Rosana\, and the many versions of its origin\, are the inspiration for our six-course dinner. \nCome on board\, and as we indulge in the tapestry of Levantine culinary treasures\, let’s re-create and re-tell the stories of our pasts and futures.
URL:https://masahat.no/event/al-rosanna-dinner/
LOCATION:Hos Arne\, Gøteborggata 27B\, OSLO\, 0566\, Norway
CATEGORIES:Mat,Musikk
ATTACH;FMTTYPE=image/jpeg:https://masahat.no/wp-content/uploads/2023/09/Al-Rosanna-Dinner-FB-Event-cover.jpg
ORGANIZER;CN="masahat":MAILTO:info@masahat.no
END:VEVENT
BEGIN:VEVENT
DTSTART;TZID=Europe/Oslo:20230923T223000
DTEND;TZID=Europe/Oslo:20230923T230000
DTSTAMP:20260424T134531
CREATED:20230818T222800Z
LAST-MODIFIED:20250704T201724Z
UID:19889-1695508200-1695510000@masahat.no
SUMMARY:Haya Zaatry (solo concert) / Blå
DESCRIPTION:Buy tickets | لشراء البطاقات\n \nHaya Zaatry’s musical origins stem from acoustic folk\, blending with Arabic musical inflections\, imbibed in the cities that nurtured her: Nazareth and Haifa. \nA self- taught musician and practicing architect\, Zaatry began her musical career with the much lauded “Manakir” (nail varnish) in 2013\, which was featured in 2021 on the Netflix “AlRawabi School For Girls”. \nHer debut album “Rahawan” which addresses intimacies of memory\, space\, gender and time\, was released in 2022\, bringing with it North African influences of electric guitars and groovy flows\, while reverberating the warmth of the indigenous sounds of Haya’s surroundings through percussions\, modal inflections and original field recordings turning spaces of memory into musical markers. \nInspired by Haya Zaatry’s great-great grandmother’s surname\, Rahawan is an album transcending the complicated threads of history\, time and geography and paying tribute to generations of mothers and matriarchs. \nNazira Rahawan (1972-1890) who lends her name to the album was born and raised in Damascus (Syria) and lived between Nazareth and Haifa (Palestine). Nazira was the last person within Haya’s family who lived and roamed the land freely\, before the forceful imposition of man made borders. \nThe album is conceptually designed to reclaim a sense of freedom and belonging which Haya Zaatry herself never had the chance to experience. \nThis concert is in collaboration with AFAC and the Palestinian Committee in Norway. \n\nBuy tickets | لشراء البطاقات
URL:https://masahat.no/event/haya-zaatry-solo-concert/
LOCATION:BLÅ\, Brenneriveien 9c\, Oslo\, 0182\, Norway
CATEGORIES:Musikk
ATTACH;FMTTYPE=image/png:https://masahat.no/wp-content/uploads/2023/09/Haya-Zaatry-Facebook-Event-Cover.png
ORGANIZER;CN="masahat":MAILTO:info@masahat.no
END:VEVENT
BEGIN:VEVENT
DTSTART;TZID=Europe/Oslo:20230923T230000
DTEND;TZID=Europe/Oslo:20230924T030000
DTSTAMP:20260424T134531
CREATED:20230819T230909Z
LAST-MODIFIED:20250704T195247Z
UID:19900-1695510000-1695524400@masahat.no
SUMMARY:Leila Moon (DJ set) / Blå
DESCRIPTION:Buy tickets | لشراء البطاقات\n \nLeila Moon is an international DJ\, resident at radio Alhara\, producer and coach. She mixes her favorite tracks of various genres\, capturing her current mood and state of mind. Her North African heritage has influenced all of her work and can‘t go unrecognized during her performance. \nSpecializing in Drum and Bass\, UK Bass\, and breaks\, her sets are a captivating blend of genres that keep audiences hooked. Inspired by the rhythmic nuances of Raï and Mahraganat\, Leila Moon infuses her mixes with a magnetic blend of bass and rhythms. \n\nBuy tickets | لشراء البطاقات
URL:https://masahat.no/event/leila-moon-dj-set-bla/
LOCATION:BLÅ\, Brenneriveien 9c\, Oslo\, 0182\, Norway
CATEGORIES:Musikk
ATTACH;FMTTYPE=image/png:https://masahat.no/wp-content/uploads/2023/09/Leila-Moon-Facebook-Event-Cover.png
ORGANIZER;CN="masahat":MAILTO:info@masahat.no
END:VEVENT
END:VCALENDAR